BEGIN:VCALENDAR
VERSION:2.0
PRODID:-//Squarespace Inc/Squarespace 6//v6//EN
BEGIN:VEVENT
UID:5aa253ef652dea8074fa5010@squarespace.com
DTSTAMP:20180309T093641Z
DTSTART:20180327T230000Z
DTEND:20180329T010000Z
SUMMARY:Songs of Hope and Healing Charity Benefit Concert
GEO:-27.469771;153.025124
LOCATION:QPAC\, Brisbane\, Australia
END:VEVENT
END:VCALENDAR
