BEGIN:VCALENDAR
VERSION:2.0
PRODID:-//Squarespace Inc/Squarespace 6//v6//EN
BEGIN:VEVENT
UID:5633ee76e4b0b2a7279fb1ed@squarespace.com
DTSTAMP:20151030T223113Z
DTSTART:20151031T150000Z
DTEND:20151031T160000Z
SUMMARY:Say Welcome Walk Together - Oct 31
END:VEVENT
END:VCALENDAR
