BEGIN:VCALENDAR
VERSION:2.0
PRODID:-//Squarespace Inc/Squarespace 6//v6//EN
BEGIN:VEVENT
UID:5afab2478a922de87d0bfc1c@squarespace.com
DTSTAMP:20180515T101809Z
DTSTART:20180623T130000Z
DTEND:20180623T170000Z
SUMMARY:Learn to Help -4 HR Mental Health First Aid Course for the Suicidal 
 Person
GEO:-27.44607;152.99296
LOCATION:Ashgrove Serviced Offices\, 240 Waterworks Road\, Ashgrove\, QLD\, 
 4060\, Australia
END:VEVENT
END:VCALENDAR
