BEGIN:VCALENDAR
VERSION:2.0
PRODID:-//Squarespace Inc/Squarespace 6//v6//EN
BEGIN:VEVENT
UID:561207f6e4b0b276922110d9@squarespace.com
DTSTAMP:20170610T052206Z
DTSTART:20151106T143000Z
DTEND:20151107T223000Z
SUMMARY:Mental Health First Aid Course - Learn How to Help
GEO:-27.445986;152.99306
LOCATION:Ashgrove Serviced Offices\, 240 Waterworks Road\, Ashgrove\, QLD\, 
 4060\, Australia
END:VEVENT
END:VCALENDAR
