BEGIN:VCALENDAR
VERSION:2.0
PRODID:-//Squarespace Inc/Squarespace 6//v6//EN
BEGIN:VEVENT
UID:59b398fb3e00be04ab9f9fdc@squarespace.com
DTSTAMP:20180409T062956Z
DTSTART:20180428T130000Z
DTEND:20180428T170000Z
SUMMARY:Learn to Help -Mental Health First Aid for Suicidal Person - 4hr Co
 urse
GEO:-27.445986;152.99306
LOCATION:Ashgrove Serviced Offices\, 240 Waterworks Road\, Ashgrove\, QLD\, 
 4060\, Australia
END:VEVENT
END:VCALENDAR
