BEGIN:VCALENDAR
VERSION:2.0
PRODID:-//Squarespace Inc/Squarespace 6//v6//EN
BEGIN:VEVENT
UID:56b5a6788259b573830813a0@squarespace.com
DTSTAMP:20160206T080511Z
DTSTART:20160212T120000Z
DTEND:20160213T130000Z
SUMMARY:Emily's List Queensland - Valentine Day Breakfast
END:VEVENT
END:VCALENDAR
