BEGIN:VCALENDAR
VERSION:2.0
PRODID:-//Squarespace Inc/Squarespace 6//v6//EN
BEGIN:VEVENT
UID:56120584e4b00eddebd8a17d@squarespace.com
DTSTAMP:20151013T093932Z
DTSTART:20151005T053000Z
DTEND:20151010T063000Z
SUMMARY:Mental Health Week 2015
END:VEVENT
END:VCALENDAR
